BEGIN:VCALENDAR
VERSION:2.0
PRODID:-//Learning Technology Center - ECPv6.15.20//NONSGML v1.0//EN
CALSCALE:GREGORIAN
METHOD:PUBLISH
X-ORIGINAL-URL:https://www.ltcillinois.org
X-WR-CALDESC:Events for Learning Technology Center
REFRESH-INTERVAL;VALUE=DURATION:PT1H
X-Robots-Tag:noindex
X-PUBLISHED-TTL:PT1H
BEGIN:VTIMEZONE
TZID:America/Chicago
BEGIN:DAYLIGHT
TZOFFSETFROM:-0600
TZOFFSETTO:-0500
TZNAME:CDT
DTSTART:20250309T080000
END:DAYLIGHT
BEGIN:STANDARD
TZOFFSETFROM:-0500
TZOFFSETTO:-0600
TZNAME:CST
DTSTART:20251102T070000
END:STANDARD
BEGIN:DAYLIGHT
TZOFFSETFROM:-0600
TZOFFSETTO:-0500
TZNAME:CDT
DTSTART:20260308T080000
END:DAYLIGHT
BEGIN:STANDARD
TZOFFSETFROM:-0500
TZOFFSETTO:-0600
TZNAME:CST
DTSTART:20261101T070000
END:STANDARD
BEGIN:DAYLIGHT
TZOFFSETFROM:-0600
TZOFFSETTO:-0500
TZNAME:CDT
DTSTART:20270314T080000
END:DAYLIGHT
BEGIN:STANDARD
TZOFFSETFROM:-0500
TZOFFSETTO:-0600
TZNAME:CST
DTSTART:20271107T070000
END:STANDARD
BEGIN:DAYLIGHT
TZOFFSETFROM:-0600
TZOFFSETTO:-0500
TZNAME:CDT
DTSTART:20280312T080000
END:DAYLIGHT
BEGIN:STANDARD
TZOFFSETFROM:-0500
TZOFFSETTO:-0600
TZNAME:CST
DTSTART:20281105T070000
END:STANDARD
END:VTIMEZONE
BEGIN:VEVENT
DTSTART;TZID=America/Chicago:20260930T090000
DTEND;TZID=America/Chicago:20260930T120000
DTSTAMP:20260425T053022
CREATED:20260423T140929Z
LAST-MODIFIED:20260423T140929Z
UID:10005542-1790758800-1790769600@www.ltcillinois.org
SUMMARY:Technology & the Law: What Every School Leader Must Know (AA 4230)
DESCRIPTION:This course provides Illinois school and district leaders with a comprehensive and actionable understanding of the legal frameworks that govern the use of technology in K-12 education. Participants will explore critical federal and state statutes-including FERPA\, SOPPA\, COPPA\, and PPRA-as well as evolving guidance around AI\, data breach response\, accessibility compliance (e.g.\, WCAG 2.1)\, and vendor agreements. The course will delve into legal responsibilities related to digital platforms\, cloud services\, cybersecurity planning\, and student biometric data collection\, with an emphasis on how these intersect with policy decisions and ethical leadership. \nLeaders will analyze current district practices through a legal lens\, evaluate sample data privacy agreements and technology contracts\, and assess policies related to digital learning and device use. By the end of the session\, participants will be prepared to guide their districts in implementing legally compliant\, student-centered\, and future-ready technology initiatives while navigating stakeholder concerns and aligning district practices to current legal obligations and best practices.
URL:https://www.ltcillinois.org/event/technology-the-law-what-every-school-leader-must-know-aa-4230/
LOCATION:Capital Area Career Center\, 2201 Toronto Road\, Springfield\, IL\, 62712\, United States
CATEGORIES:Administrator Academy
END:VEVENT
BEGIN:VEVENT
DTSTART;TZID=America/Chicago:20261006T130000
DTEND;TZID=America/Chicago:20261006T153000
DTSTAMP:20260425T053022
CREATED:20260305T205915Z
LAST-MODIFIED:20260305T205915Z
UID:10005499-1791291600-1791300600@www.ltcillinois.org
SUMMARY:AI for ELA: Crafting Compelling Content & Critical Readers
DESCRIPTION:This virtual workshop is designed for English language arts teachers ready to leverage artificial intelligence for practical classroom applications and responsible integration. \nDive into hands-on techniques for generating differentiated reading passages\, crafting engaging writing prompts\, creating targeted vocabulary lists\, and even designing custom rubrics! We’ll explore how AI can enhance instruction and student engagement through personalized learning and initial writing feedback. \nCritically\, this session will equip you to navigate the ethical landscape of AI\, with discussions around academic integrity\, bias\, and data privacy. You’ll gain strategies to foster AI literacy in your students\, empowering them to critically evaluate information and use AI responsibly\, ensuring you leave with actionable ideas for your ELA classroom.
URL:https://www.ltcillinois.org/event/ai-for-ela-crafting-compelling-content-critical-readers-3/
LOCATION:Online\, IL\, United States
CATEGORIES:Workshop
GEO:40.6331249;-89.3985283
END:VEVENT
BEGIN:VEVENT
DTSTART;TZID=America/Chicago:20261027T130000
DTEND;TZID=America/Chicago:20261027T153000
DTSTAMP:20260425T053022
CREATED:20260305T210219Z
LAST-MODIFIED:20260305T210219Z
UID:10005500-1793106000-1793115000@www.ltcillinois.org
SUMMARY:AI for Social Studies: Navigating Narratives & Building Citizens
DESCRIPTION:This virtual workshop is for social studies teachers ready to harness AI for critical inquiry and dynamic engagement. \nGet hands-on with AI to differentiate primary source analysis\, generate diverse perspectives on complex events\, create interactive “interviews” with historical figures\, and simulate civic dilemmas and debates. Discover practical ways AI can deepen disciplinary concepts and inquiry skills by helping students identify issues\, pose questions\, and weigh evidence. \nCritically\, we’ll address AI’s profound impact on media literacy\, examining how it can both democratize information and inadvertently shape historical and civic narratives. You’ll gain strategies to empower students to critically evaluate AI-generated information\, identify bias\, promote academic integrity\, and protect data\, leaving you with actionable ideas to transform your classroom.
URL:https://www.ltcillinois.org/event/ai-for-social-studies-navigating-narratives-building-citizens-3/
LOCATION:Online\, IL\, United States
CATEGORIES:Workshop
GEO:40.6331249;-89.3985283
END:VEVENT
BEGIN:VEVENT
DTSTART;TZID=America/Chicago:20261111T080000
DTEND;TZID=America/Chicago:20261113T170000
DTSTAMP:20260425T053022
CREATED:20260223T153530Z
LAST-MODIFIED:20260223T154801Z
UID:10005462-1794384000-1794589200@www.ltcillinois.org
SUMMARY:Illinois Education and Technology Conference 2026 (IETC)
DESCRIPTION:At IETC\, education and technology innovators from throughout Illinois gather in our state’s capital to learn\, collaborate\, and connect. \nSessions focus on technology integration strategies\, engaging instructional practices\, digital tools and resources\, and emerging trends – all with a focus on helping every K-12 district and educator harness edtech’s full potential. \nWith over 700 attendees\, 120 sessions and workshops\, and 70 vendors\, IETC offers unique and intimate learning opportunities for everyone in edtech.
URL:https://www.ltcillinois.org/event/ietc2026/
LOCATION:Bank of Springfield Center\, Springfield\, IL\, 1\, Convention Center Plaza\,\, Springfield\, Illinois\, 62701\, United States
CATEGORIES:Conference/Summit
ATTACH;FMTTYPE=image/png:https://www.ltcillinois.org/wp-content/uploads/2024/02/IETC-Logo-500x500-1.png
END:VEVENT
BEGIN:VEVENT
DTSTART;TZID=America/Chicago:20270101T130000
DTEND;TZID=America/Chicago:20270101T134500
DTSTAMP:20260425T053022
CREATED:20260126T155724Z
LAST-MODIFIED:20260317T141253Z
UID:10005425-1798808400-1798811100@www.ltcillinois.org
SUMMARY:Be Connected: Vulnerability Scans with CISA
DESCRIPTION:This week on Be Connected – we’ll discuss how proactive vulnerability scanning can identify “low-hanging fruit” for attackers before they are exploited\, with a special guest. \nTune in to hear from Tony Collings\, Cybersecurity State Coordinator with CISA\, who will share details on their no-cost Cyber Hygiene Services\, which was designed specifically for K-12 districts and helps them monitor their internet-facing assets. \nJoin the conversation to learn how to enroll in these recurring weekly scans\, how to interpret the risk-prioritized reports\, and how to use CISA’s expert guidance to strengthen your district’s defense without straining your budget. \n____ \nBe Connected is a virtual networking series designed to spark meaningful conversations and collaboration within Illinois’ K–12 technology community. \nHosted by the LTC’s Technology Services team\, each free session centers around a different relevant topic\, ranging from infrastructure planning and cybersecurity to emerging tools\, networking strategies\, and day-to-day IT challenges. These informal yet purposeful sessions offer a relaxed and supportive environment where participants can ask questions\, share experiences\, and learn from one another. \nExplore upcoming session topics: https://www.ltcillinois.org/services/beconnected/
URL:https://www.ltcillinois.org/event/be-connected-vulnerability-scans-with-cisa/
LOCATION:Online\, IL\, United States
CATEGORIES:Networking Event
ATTACH;FMTTYPE=image/png:https://www.ltcillinois.org/wp-content/uploads/2026/01/21.png
GEO:40.6331249;-89.3985283
END:VEVENT
END:VCALENDAR