BEGIN:VCALENDAR
VERSION:2.0
PRODID:-//Learning Technology Center - ECPv6.15.20//NONSGML v1.0//EN
CALSCALE:GREGORIAN
METHOD:PUBLISH
X-ORIGINAL-URL:https://www.ltcillinois.org
X-WR-CALDESC:Events for Learning Technology Center
REFRESH-INTERVAL;VALUE=DURATION:PT1H
X-Robots-Tag:noindex
X-PUBLISHED-TTL:PT1H
BEGIN:VTIMEZONE
TZID:America/Chicago
BEGIN:DAYLIGHT
TZOFFSETFROM:-0600
TZOFFSETTO:-0500
TZNAME:CDT
DTSTART:20250309T080000
END:DAYLIGHT
BEGIN:STANDARD
TZOFFSETFROM:-0500
TZOFFSETTO:-0600
TZNAME:CST
DTSTART:20251102T070000
END:STANDARD
BEGIN:DAYLIGHT
TZOFFSETFROM:-0600
TZOFFSETTO:-0500
TZNAME:CDT
DTSTART:20260308T080000
END:DAYLIGHT
BEGIN:STANDARD
TZOFFSETFROM:-0500
TZOFFSETTO:-0600
TZNAME:CST
DTSTART:20261101T070000
END:STANDARD
BEGIN:DAYLIGHT
TZOFFSETFROM:-0600
TZOFFSETTO:-0500
TZNAME:CDT
DTSTART:20270314T080000
END:DAYLIGHT
BEGIN:STANDARD
TZOFFSETFROM:-0500
TZOFFSETTO:-0600
TZNAME:CST
DTSTART:20271107T070000
END:STANDARD
END:VTIMEZONE
BEGIN:VEVENT
DTSTART;TZID=America/Chicago:20260513T153000
DTEND;TZID=America/Chicago:20260513T160000
DTSTAMP:20260419T104750
CREATED:20260120T200132Z
LAST-MODIFIED:20260305T145730Z
UID:10005415-1778686200-1778688000@www.ltcillinois.org
SUMMARY:Visuals Impact Learning: Make Digital Materials More Engaging to the Brain
DESCRIPTION:Visuals are more than just flare for your lessons. Used well\, they provide accessibility and add depth to your content to digital materials – both essential when engagement it as a premium. \nHow can you utilize visuals that are conducive to comprehension and learning retention? Let’s dive in and explore practical\, actionable tips for making digital materials more comprehensible for all learners. \nWe’ll also explore the brain science behind effective digital teaching materials\, drawing on principles from the learning sciences and design psychology to make impactful use second-nature for you. \nIllinois educators who register here and attend live through Zoom can earn 1.0 PD credit.
URL:https://www.ltcillinois.org/event/visuals-impact-learning-make-digital-materials-more-engaging-to-the-brain/
LOCATION:Online\, IL\, United States
CATEGORIES:Webinar
ATTACH;FMTTYPE=image/png:https://www.ltcillinois.org/wp-content/uploads/2026/01/513-Webinar-Thumbnail-.png
GEO:40.6331249;-89.3985283
END:VEVENT
END:VCALENDAR