BEGIN:VCALENDAR
VERSION:2.0
PRODID:-//Learning Technology Center - ECPv6.15.20//NONSGML v1.0//EN
CALSCALE:GREGORIAN
METHOD:PUBLISH
X-WR-CALNAME:Learning Technology Center
X-ORIGINAL-URL:https://www.ltcillinois.org
X-WR-CALDESC:Events for Learning Technology Center
REFRESH-INTERVAL;VALUE=DURATION:PT1H
X-Robots-Tag:noindex
X-PUBLISHED-TTL:PT1H
BEGIN:VTIMEZONE
TZID:America/Chicago
BEGIN:DAYLIGHT
TZOFFSETFROM:-0600
TZOFFSETTO:-0500
TZNAME:CDT
DTSTART:20240310T080000
END:DAYLIGHT
BEGIN:STANDARD
TZOFFSETFROM:-0500
TZOFFSETTO:-0600
TZNAME:CST
DTSTART:20241103T070000
END:STANDARD
BEGIN:DAYLIGHT
TZOFFSETFROM:-0600
TZOFFSETTO:-0500
TZNAME:CDT
DTSTART:20250309T080000
END:DAYLIGHT
BEGIN:STANDARD
TZOFFSETFROM:-0500
TZOFFSETTO:-0600
TZNAME:CST
DTSTART:20251102T070000
END:STANDARD
BEGIN:DAYLIGHT
TZOFFSETFROM:-0600
TZOFFSETTO:-0500
TZNAME:CDT
DTSTART:20260308T080000
END:DAYLIGHT
BEGIN:STANDARD
TZOFFSETFROM:-0500
TZOFFSETTO:-0600
TZNAME:CST
DTSTART:20261101T070000
END:STANDARD
END:VTIMEZONE
BEGIN:VEVENT
DTSTART;TZID=America/Chicago:20251202T153000
DTEND;TZID=America/Chicago:20251202T163000
DTSTAMP:20260419T115029
CREATED:20251103T220149Z
LAST-MODIFIED:20251103T220149Z
UID:10005350-1764689400-1764693000@www.ltcillinois.org
SUMMARY:Celebrating CS Ed Week with Code.org's Hour of AI
DESCRIPTION:For over a decade\, we’ve celebrated CS Ed Week with an Hour of Code. This year\, we’re adding to our annual celebration with a new Code.org hour for students – Hour of AI! \nJoin us for a celebration packed with inspirational learning experiences for students\, teachers\, and families. Whether your students are new to AI or walk in with some prior experience\, you’ll gain tools and information to help you launch a successful Hour of AI for your classroom or district. Along the way\, we’ll also explore a hands-on learning lesson\, share resources\, and generate ideas for your roll out. \nThis webinar is for anyone who wants to learn more about Code.org‘s Hour of AI. All experiences\, all grades* welcome. \n*Student activities are suited for 3rd grade and older
URL:https://www.ltcillinois.org/event/celebrating-cs-ed-week-with-code-orgs-hour-of-ai/
LOCATION:Online\, IL\, United States
CATEGORIES:Webinar
GEO:40.6331249;-89.3985283
END:VEVENT
END:VCALENDAR